BEGIN:VCALENDAR
VERSION:2.0
PRODID:-//SRP Clean Energy Team - ECPv6.15.17//NONSGML v1.0//EN
CALSCALE:GREGORIAN
METHOD:PUBLISH
X-ORIGINAL-URL:https://srpcleanenergy.org
X-WR-CALDESC:Events for SRP Clean Energy Team
REFRESH-INTERVAL;VALUE=DURATION:PT1H
X-Robots-Tag:noindex
X-PUBLISHED-TTL:PT1H
BEGIN:VTIMEZONE
TZID:America/Phoenix
BEGIN:STANDARD
TZOFFSETFROM:-0700
TZOFFSETTO:-0700
TZNAME:MST
DTSTART:20230101T000000
END:STANDARD
END:VTIMEZONE
BEGIN:VEVENT
DTSTART;TZID=America/Phoenix:20240323T000000
DTEND;TZID=America/Phoenix:20240324T235959
DTSTAMP:20260421T184842
CREATED:20240309T040549Z
LAST-MODIFIED:20240309T050419Z
UID:1226-1711152000-1711324799@srpcleanenergy.org
SUMMARY:SRP District 5 | Canvass Tempe/Phoenix
DESCRIPTION:Come share information with voters about the upcoming SRP election on April 2nd and help get them signed up to receive ballots.  This is the last weekend before ballots start mailing next week.  Please join us and educate voters about how to request their ballots for the SRP-run election!
URL:https://srpcleanenergy.org/event/srp-district-5-canvass-tempe-phoenix-4/
LOCATION:TBD\, TBD
CATEGORIES:Canvass,Voter Education
END:VEVENT
BEGIN:VEVENT
DTSTART;TZID=America/Phoenix:20240323T000000
DTEND;TZID=America/Phoenix:20240324T235959
DTSTAMP:20260421T184842
CREATED:20240309T042218Z
LAST-MODIFIED:20240309T042218Z
UID:1238-1711152000-1711324799@srpcleanenergy.org
SUMMARY:SRP District 7 | Canvass Phoenix/Scottsdale
DESCRIPTION:Come share information with voters about the upcoming SRP election on April 2nd and help get them signed up to receive ballots.  This is the last weekend before ballots start mailing next week.  Please join us and educate voters about how to request their ballots for the SRP-run election!
URL:https://srpcleanenergy.org/event/srp-district-7-canvass-phoenix-scottsdale-3/
LOCATION:TBD\, TBD
CATEGORIES:Canvass,Voter Education
END:VEVENT
BEGIN:VEVENT
DTSTART;TZID=America/Phoenix:20240323T000000
DTEND;TZID=America/Phoenix:20240324T235959
DTSTAMP:20260421T184842
CREATED:20240309T045143Z
LAST-MODIFIED:20240309T045143Z
UID:1251-1711152000-1711324799@srpcleanenergy.org
SUMMARY:SRP District 9 | Canvass Tempe/Mesa
DESCRIPTION:Come share information with voters about the upcoming SRP election on April 2nd and help get them signed up to receive ballots.  This is the last weekend before ballots start mailing next week.  Please join us and educate voters about how to request their ballots for the SRP-run election!
URL:https://srpcleanenergy.org/event/srp-district-9-canvass-tempe-mesa-3/
LOCATION:Legislative District 9 Office\, 761 E University Dr.\, Mesa\, AZ\, 85203\, United States
CATEGORIES:Canvass,Voter Education
END:VEVENT
BEGIN:VEVENT
DTSTART;TZID=America/Phoenix:20240326T180000
DTEND;TZID=America/Phoenix:20240326T200000
DTSTAMP:20260421T184842
CREATED:20240320T183459Z
LAST-MODIFIED:20240322T154128Z
UID:1313-1711476000-1711483200@srpcleanenergy.org
SUMMARY:Jane Fonda Climate Phonebank to SRP Voters
DESCRIPTION:Please join Jane Fonda and the rest of the SRPCleanEnergy team to call SRP voters that have not returned their ballots.  The last day to return ballots is on March 28th.  So we want to remind them up until then to return their ballots! \nPlease click here to RSVP for this event and stay informed about logistics of this event. \n 
URL:https://srpcleanenergy.org/event/jane-fonda-climate/
LOCATION:Lead Locally Mobilize
CATEGORIES:Phone Bank,Voter Education
ATTACH;FMTTYPE=image/png:/wp-content/uploads/2024/03/2024-2-e1710963181315.png
END:VEVENT
BEGIN:VEVENT
DTSTART;TZID=America/Phoenix:20240330T000000
DTEND;TZID=America/Phoenix:20240331T235959
DTSTAMP:20260421T184842
CREATED:20240309T035933Z
LAST-MODIFIED:20240309T035933Z
UID:1221-1711756800-1711929599@srpcleanenergy.org
SUMMARY:SRP District 3 | Canvass Tolleson/West Valley
DESCRIPTION:Come share information with voters about the upcoming SRP election on April 2nd and help get them signed up to receive ballots.  This is the last weekend before ballots start mailing next week.  Please join us and educate voters about how to request their ballots for the SRP-run election!
URL:https://srpcleanenergy.org/event/srp-district-3-canvass-tolleson-west-valley-2/
CATEGORIES:Canvass,Voter Education
END:VEVENT
BEGIN:VEVENT
DTSTART;TZID=America/Phoenix:20240330T000000
DTEND;TZID=America/Phoenix:20240331T235959
DTSTAMP:20260421T184842
CREATED:20240309T042742Z
LAST-MODIFIED:20240309T042742Z
UID:1241-1711756800-1711929599@srpcleanenergy.org
SUMMARY:SRP District 7 | Canvass Phoenix/Scottsdale
DESCRIPTION:Come share information with voters about the upcoming SRP election on April 2nd and help get them signed up to receive ballots.  This is the last weekend before ballots start mailing next week.  Please join us and educate voters about how to request their ballots for the SRP-run election!
URL:https://srpcleanenergy.org/event/srp-district-7-canvass-phoenix-scottsdale-4/
LOCATION:TBD\, TBD
CATEGORIES:Canvass,Voter Education
END:VEVENT
BEGIN:VEVENT
DTSTART;TZID=America/Phoenix:20240330T093000
DTEND;TZID=America/Phoenix:20240330T113000
DTSTAMP:20260421T184842
CREATED:20240309T040835Z
LAST-MODIFIED:20240328T000726Z
UID:1229-1711791000-1711798200@srpcleanenergy.org
SUMMARY:SRP District 5 | Canvass Tempe/Phoenix with Julie Gunnigle
DESCRIPTION:Come share information with voters about the upcoming SRP election on April 2nd and help get them to return their ballots.  This is the last weekend before ballots start mailing next week.  Please join us and educate voters about how to return their ballots for the SRP-run election!
URL:https://srpcleanenergy.org/event/srp-district-5-canvass-tempe-phoenix-5/
LOCATION:Lauren Kuby’s house\, 109 E Loma Vista Dr\, Tempe\, 85282\, United States
CATEGORIES:Canvass,Voter Education
ATTACH;FMTTYPE=image/jpeg:/wp-content/uploads/2024/03/JulieG-jpg-e1711584301241.webp
END:VEVENT
BEGIN:VEVENT
DTSTART;TZID=America/Phoenix:20240401T103000
DTEND;TZID=America/Phoenix:20240401T110000
DTSTAMP:20260421T184842
CREATED:20240401T060738Z
LAST-MODIFIED:20240401T061051Z
UID:1450-1711967400-1711969200@srpcleanenergy.org
SUMMARY:Press Conference: SRP CEO Election Interference?
DESCRIPTION:***MEDIA ADVISORY***\nApril 1\, 2024\nContact: Randy Miller\ninfo@srpcleanenergy.org\n(480) 331-6694‬ \nSRP Board Members and Ratepayers Callout SRP CEO for Inappropriate Elections Influence \n(Tempe\, AZ) – On Monday\, April 1\, 2024\, at 10:30 a.m.\, we will hold a press conference outside SRP Headquarters to call out the SRP CEO and General Manager\, Jim Pratt\, for a letter posted on the internal employee portal for SRP employees that inappropriately seeks to influence the SRP election which will be held on April 2nd.  This letter and Mr. Pratt’s response can be reviewed at here (https://SRPCleanEnergy.org/srp-election-interference) \nWHO: \n\nNick Brown: SRP Board Member\, SRP ratepayer and candidate\nLauren Kuby: SRP ratepayer and candidate\nSandra Kennedy: SRP ratepayer\, candidate and former Arizona Corporation Commission (ACC) Commissioner\n\nWHEN:\nMonday\, April 1\, 2024\, 10:30 A.M. AZ \nWHERE:\nIn front of SRP Headquarters\, located at 1500 N Mill Ave\, Tempe\, AZ 85281 \nINTERVIEWS:\nSpeakers will be available for individual interviews after the news conference. \n###
URL:https://srpcleanenergy.org/event/20240401-press/
LOCATION:Salt River Project (SRP)\, 1500 N Mill Ave\, Tempe\, 85281\, United States
CATEGORIES:Press Conference,Voter Education
ATTACH;FMTTYPE=image/png:/wp-content/uploads/2024/03/Designer-e1711951611352.png
ORGANIZER;CN="Randy Miller":MAILTO:info@srpcleanenergy.org
END:VEVENT
BEGIN:VEVENT
DTSTART;TZID=America/Phoenix:20260109T180000
DTEND;TZID=America/Phoenix:20260109T200000
DTSTAMP:20260421T184842
CREATED:20260105T024556Z
LAST-MODIFIED:20260107T181157Z
UID:1575-1767981600-1767988800@srpcleanenergy.org
SUMMARY:Campaign kickoff
DESCRIPTION:Campaign kickoff Event
URL:https://srpcleanenergy.org/event/d8campaign-kickoff/
END:VEVENT
BEGIN:VEVENT
DTSTART;TZID=America/Phoenix:20260110T000000
DTEND;TZID=America/Phoenix:20260110T235959
DTSTAMP:20260421T184842
CREATED:20260105T030321Z
LAST-MODIFIED:20260105T030321Z
UID:1587-1768003200-1768089599@srpcleanenergy.org
SUMMARY:SRP Area 8 Canvass
DESCRIPTION:
URL:https://srpcleanenergy.org/event/srp-area-8-canvass/
END:VEVENT
BEGIN:VEVENT
DTSTART;TZID=America/Phoenix:20260131T100000
DTEND;TZID=America/Phoenix:20260131T130000
DTSTAMP:20260421T184842
CREATED:20260129T021142Z
LAST-MODIFIED:20260129T022031Z
UID:1645-1769853600-1769864400@srpcleanenergy.org
SUMMARY:SRP Clean Energy Team and Allison Gullick for Phoenix Elementary Joint Canvass
DESCRIPTION:
URL:https://srpcleanenergy.org/event/20260131-canvass/
LOCATION:2022 W Mulberry Dr\, Phoenix\, AZ 85015\, 2022 W Mulberry Dr\, Phoenix\, AZ\, 85015\, United States
CATEGORIES:Canvass
END:VEVENT
BEGIN:VEVENT
DTSTART;TZID=America/Phoenix:20260303T180000
DTEND;TZID=America/Phoenix:20260407T190000
DTSTAMP:20260421T184842
CREATED:20260226T222141Z
LAST-MODIFIED:20260226T223914Z
UID:1794-1772560800-1775588400@srpcleanenergy.org
SUMMARY:Indivisible Mesa phone bank
DESCRIPTION:Every Tues and Weds night from 6pm-7pm\nPhone-Bank to keep Turning Point off the SRP Board
URL:https://srpcleanenergy.org/event/indivisible-mesa-phone-bank/
LOCATION:Online
CATEGORIES:Phone Bank
ATTACH;FMTTYPE=image/avif:/wp-content/uploads/2026/02/PhoneBank-Thumbnail_20260103220627349844.avif
END:VEVENT
END:VCALENDAR