BEGIN:VCALENDAR
VERSION:2.0
PRODID:-//SRP Clean Energy Team - ECPv6.15.17//NONSGML v1.0//EN
CALSCALE:GREGORIAN
METHOD:PUBLISH
X-WR-CALNAME:SRP Clean Energy Team
X-ORIGINAL-URL:https://srpcleanenergy.org
X-WR-CALDESC:Events for SRP Clean Energy Team
REFRESH-INTERVAL;VALUE=DURATION:PT1H
X-Robots-Tag:noindex
X-PUBLISHED-TTL:PT1H
BEGIN:VTIMEZONE
TZID:America/Phoenix
BEGIN:STANDARD
TZOFFSETFROM:-0700
TZOFFSETTO:-0700
TZNAME:MST
DTSTART:20220101T000000
END:STANDARD
END:VTIMEZONE
BEGIN:VEVENT
DTSTART;TZID=America/Phoenix:20240130T000000
DTEND;TZID=America/Phoenix:20240130T235959
DTSTAMP:20260421T171050
CREATED:20240216T091522Z
LAST-MODIFIED:20240216T091527Z
UID:715-1706572800-1706659199@srpcleanenergy.org
SUMMARY:Facebook Live: Univision
DESCRIPTION:Poder de tu Voz\n\n\n\n\n\n\nPoder Latinx es una organización cívica que trabaja a favor de la justicia social.  Su misión es crear una ola política donde la comunidad latina tenga un rol principal en la transformación del país donde inmigrantes y personas de color sean los que hacen las decisiones en nuestro proceso político.  Poder Latinx como parte de sus esfuerzos quiere empoderar a la comunidad con información para que se involucren en las decisiones que se están tomando en el gobierno.\n\n\n\nhttps://www.facebook.com/UnivisionArizona/videos/904245027961960
URL:https://srpcleanenergy.org/event/facebook-live-univision/
CATEGORIES:Spanish (Espanol),Voter Education
ATTACH;FMTTYPE=image/png:/wp-content/uploads/2024/02/202120poder20latinx20logo_202211161918077899681.png
END:VEVENT
BEGIN:VEVENT
DTSTART;TZID=America/Phoenix:20240114T100000
DTEND;TZID=America/Phoenix:20240114T110000
DTSTAMP:20260421T171050
CREATED:20240209T071206Z
LAST-MODIFIED:20240209T072744Z
UID:575-1705226400-1705230000@srpcleanenergy.org
SUMMARY:Sunday Speaker: Lauren Kuby & Randy Miller – The SRP Nobody Knows
DESCRIPTION:
URL:https://srpcleanenergy.org/event/sunday-speaker-lauren-kuby-randy-miller-the-srp-nobody-knows/
LOCATION:Humanist Society of Greater Phoenix (HSGP)\, 627 West Rio Salado Parkway\, Mesa\, AZ\, 85201\, United States
CATEGORIES:Voter Education
ATTACH;FMTTYPE=image/jpeg:/wp-content/uploads/2024/02/HSGP_2024_01_14_speakers.jpg
ORGANIZER;CN="Randy Miller":MAILTO:info@srpcleanenergy.org
END:VEVENT
BEGIN:VEVENT
DTSTART;TZID=America/Phoenix:20231208T090000
DTEND;TZID=America/Phoenix:20231208T120000
DTSTAMP:20260421T171050
CREATED:20240209T073043Z
LAST-MODIFIED:20240209T073447Z
UID:577-1702026000-1702036800@srpcleanenergy.org
SUMMARY:AZ Solar + Storage Workshop 2023
DESCRIPTION:
URL:https://srpcleanenergy.org/event/az-solar-storage-workshop-2023/
LOCATION:Fusion Power\, 6150 W Chandler Blvd 17\, Chandler\, AZ\, 85226\, United States
CATEGORIES:Voter Education
ATTACH;FMTTYPE=image/jpeg:/wp-content/uploads/2024/02/AZSolarWorkshop.jpg
ORGANIZER;CN="Randy Miller":MAILTO:info@srpcleanenergy.org
END:VEVENT
END:VCALENDAR