BEGIN:VCALENDAR
VERSION:2.0
PRODID:-//SRP Clean Energy Team - ECPv6.15.17//NONSGML v1.0//EN
CALSCALE:GREGORIAN
METHOD:PUBLISH
X-WR-CALNAME:SRP Clean Energy Team
X-ORIGINAL-URL:https://srpcleanenergy.org
X-WR-CALDESC:Events for SRP Clean Energy Team
REFRESH-INTERVAL;VALUE=DURATION:PT1H
X-Robots-Tag:noindex
X-PUBLISHED-TTL:PT1H
BEGIN:VTIMEZONE
TZID:America/Phoenix
BEGIN:STANDARD
TZOFFSETFROM:-0700
TZOFFSETTO:-0700
TZNAME:MST
DTSTART:20230101T000000
END:STANDARD
END:VTIMEZONE
BEGIN:VEVENT
DTSTART;TZID=America/Phoenix:20240309T000000
DTEND;TZID=America/Phoenix:20240310T235959
DTSTAMP:20260421T113145
CREATED:20240309T033956Z
LAST-MODIFIED:20240309T045636Z
UID:1214-1709942400-1710115199@srpcleanenergy.org
SUMMARY:SRP District 3 – Tolleson/West Valley Canvass
DESCRIPTION:Come share information with voters about the upcoming SRP election on April 2nd and help get them signed up to receive ballots.  This is the last weekend before ballots start mailing next week.  Please join us and educate voters about how to request their ballots for the SRP-run election!
URL:https://srpcleanenergy.org/event/srp-district-3-tolleson-west-valley-canvass/
LOCATION:TBD\, TBD
CATEGORIES:Canvass,Voter Education
END:VEVENT
BEGIN:VEVENT
DTSTART;TZID=America/Phoenix:20240309T000000
DTEND;TZID=America/Phoenix:20240310T235959
DTSTAMP:20260421T113145
CREATED:20240309T041517Z
LAST-MODIFIED:20240309T041517Z
UID:1232-1709942400-1710115199@srpcleanenergy.org
SUMMARY:SRP District 7 | Canvass Phoenix/Scottsdale
DESCRIPTION:Come share information with voters about the upcoming SRP election on April 2nd and help get them signed up to receive ballots.  This is the last weekend before ballots start mailing next week.  Please join us and educate voters about how to request their ballots for the SRP-run election!
URL:https://srpcleanenergy.org/event/srp-district-7-canvass-phoenix-scottsdale/
LOCATION:TBD\, TBD
CATEGORIES:Canvass,Voter Education
END:VEVENT
BEGIN:VEVENT
DTSTART;TZID=America/Phoenix:20240309T000000
DTEND;TZID=America/Phoenix:20240310T235959
DTSTAMP:20260421T113145
CREATED:20240309T044203Z
LAST-MODIFIED:20240309T044203Z
UID:1245-1709942400-1710115199@srpcleanenergy.org
SUMMARY:SRP District 9 | Canvass Tempe/Mesa
DESCRIPTION:Come share information with voters about the upcoming SRP election on April 2nd and help get them signed up to receive ballots.  This is the last weekend before ballots start mailing next week.  Please join us and educate voters about how to request their ballots for the SRP-run election!
URL:https://srpcleanenergy.org/event/srp-district-9-canvass-tempe-mesa/
LOCATION:Legislative District 9 Office\, 761 E University Dr.\, Mesa\, AZ\, 85203\, United States
CATEGORIES:Canvass,Voter Education
END:VEVENT
BEGIN:VEVENT
DTSTART;TZID=America/Phoenix:20240309T100000
DTEND;TZID=America/Phoenix:20240309T123000
DTSTAMP:20260421T113145
CREATED:20240308T190803Z
LAST-MODIFIED:20240309T050105Z
UID:1210-1709978400-1709987400@srpcleanenergy.org
SUMMARY:SRP District 5 | Canvass Tempe/Phoenix
DESCRIPTION:Come share information with voters about the upcoming SRP election on April 2nd and help get them signed up to receive ballots.  This is the last weekend before ballots start mailing next week.  Please join us and educate voters about how to request their ballots for the SRP-run election!
URL:https://srpcleanenergy.org/event/srp-district-5-canvass-tempe-phoenix-2/
LOCATION:Lauren Kuby’s house\, 109 E Loma Vista Dr\, Tempe\, 85282\, United States
CATEGORIES:Canvass,Voter Education
END:VEVENT
BEGIN:VEVENT
DTSTART;TZID=America/Phoenix:20240309T110000
DTEND;TZID=America/Phoenix:20240309T140000
DTSTAMP:20260421T113145
CREATED:20240301T064327Z
LAST-MODIFIED:20240301T064327Z
UID:1102-1709982000-1709992800@srpcleanenergy.org
SUMMARY:Potluck Social - CCL Valley Chapter
DESCRIPTION:Join us for an in-person Potluck Social! \nNorth Mountain Park\, 10608 N 7th St\, Phoenix\, AZ 85020; Pima 1-2 Ramadas \nIf you have a chance to let us know that you’re coming\, that would be awesome.  We are using our regular outreach Sign-up Genius – just look for March 9 to sign up at: tiny.cc/CCLTabling.  There’s room to share a note about what you plan to bring (if you know ahead). \nThis month\, our meeting is an opportunity to meet & greet one another face-to-face.  Whether you have joined us recently or are an “old hat”\, we are looking forward to getting to know you better.  This is a great opportunity to bring a friend to check out CCL (cclusa.org). \n************************************************************ \n Citizens’ Climate Lobby – Valley Chapter\nWe are bi-partisan\, respectful\, and working together to build political will for effective climate action.   Most months we have a virtual meeting which begins at 10:00 AM and ends at noon\, including both our local and national calls.  In the summer\, we begin with the National Call followed by our local chapter meeting http://tiny.cc/ValleyAZMtg.  In the winter it is reversed (local then national).  You can join the National Call using http://www.cclusa.org/meeting. \nFebruary’s AGENDA as an example.\n(For March\, we will be taking time to get to know each other. Informal conversations could create something new in 2024!) \nTypical Local Meeting Elements (we’ll do some of these activities informally while eating) \n\nIntroductions\nCelebrations of Recent Chapter Activities/ Team Reports (Youth Teams)\nUpcoming Events & Opportunities (tiny.cc/CCLcalAZ & tiny.cc/CCLTabling)\nGroup Photo\nGroup Action & National Priorities Update\nAnnouncements & Discussions – Get Involved – Signup * tiny.cc/CCLcalAZ
URL:https://srpcleanenergy.org/event/potluck-social-ccl/
LOCATION:North Mountain Park\, 10608 N 7th St\, Phoenix\, 85020\, United States
CATEGORIES:Voter Education
END:VEVENT
END:VCALENDAR