BEGIN:VCALENDAR
VERSION:2.0
PRODID:-//SRP Clean Energy Team - ECPv6.15.17//NONSGML v1.0//EN
CALSCALE:GREGORIAN
METHOD:PUBLISH
X-ORIGINAL-URL:https://srpcleanenergy.org
X-WR-CALDESC:Events for SRP Clean Energy Team
REFRESH-INTERVAL;VALUE=DURATION:PT1H
X-Robots-Tag:noindex
X-PUBLISHED-TTL:PT1H
BEGIN:VTIMEZONE
TZID:America/Phoenix
BEGIN:STANDARD
TZOFFSETFROM:-0700
TZOFFSETTO:-0700
TZNAME:MST
DTSTART:20230101T000000
END:STANDARD
END:VTIMEZONE
BEGIN:VEVENT
DTSTART;TZID=America/Phoenix:20240304T183000
DTEND;TZID=America/Phoenix:20240304T193000
DTSTAMP:20260421T112848
CREATED:20240301T055707Z
LAST-MODIFIED:20240301T060410Z
UID:1098-1709577000-1709580600@srpcleanenergy.org
SUMMARY:SRP Elections: Why are they important? Who can vote?
DESCRIPTION:SRP Elections – why are they important?  Who can vote?\nREGISTER HERE \nPlease consider joining AZIPL by Zoom on Monday to learn more about the SRP elections. Then you can help to grow participation in this important election. \nDid you know that SRP is an Arizona electricity and water utility that is not accountable to the Arizona Corporation Commission?  Instead\, they are governed by a separate Board and Council. \nBut it’s complicated: not every SRP customer\ncan vote in SRP elections!\nAnd not all the voters are SRP customers! \nWe want to cut through the confusion. Join us on Monday to learn why your community should care about this election (hint – their decisions impact our climate!)  We’ll talk about how you can help the members of your congregation find out if they can vote and how to get a ballot. \nLearn About SRP Elections!\nMonday\, March 4\, 6:30 p.m. – 7:30 p.m.\nZoom Meeting\, register here.\nI hope you can join us on Monday! \nInvitation from Melanie Beikman\, Executive Director AZIPL\nShared by Gretchen Reinhardt\, AZIPL Faith Votes Program Coordinator
URL:https://srpcleanenergy.org/event/azipl/
LOCATION:Online
CATEGORIES:Voter Education
END:VEVENT
END:VCALENDAR