BEGIN:VCALENDAR
VERSION:2.0
PRODID:-//SRP Clean Energy Team - ECPv6.15.17//NONSGML v1.0//EN
CALSCALE:GREGORIAN
METHOD:PUBLISH
X-ORIGINAL-URL:https://srpcleanenergy.org
X-WR-CALDESC:Events for SRP Clean Energy Team
REFRESH-INTERVAL;VALUE=DURATION:PT1H
X-Robots-Tag:noindex
X-PUBLISHED-TTL:PT1H
BEGIN:VTIMEZONE
TZID:America/Phoenix
BEGIN:STANDARD
TZOFFSETFROM:-0700
TZOFFSETTO:-0700
TZNAME:MST
DTSTART:20230101T000000
END:STANDARD
END:VTIMEZONE
BEGIN:VEVENT
DTSTART;TZID=America/Phoenix:20240224T123000
DTEND;TZID=America/Phoenix:20240224T170000
DTSTAMP:20260421T125124
CREATED:20240210T035925Z
LAST-MODIFIED:20240216T082434Z
UID:624-1708777800-1708794000@srpcleanenergy.org
SUMMARY:Ballot Blitz 2024
DESCRIPTION:Please RSVP by going to https://www.azsolarevent.com
URL:https://srpcleanenergy.org/event/ballot-blitz-2024/
LOCATION:Fusion Power\, 6150 W Chandler Blvd 17\, Chandler\, AZ\, 85226\, United States
CATEGORIES:Canvass,Voter Education
ATTACH;FMTTYPE=image/png:/wp-content/uploads/2024/02/Ballot-Blitz-2024-1.png
END:VEVENT
END:VCALENDAR