BEGIN:VCALENDAR
VERSION:2.0
PRODID:-//SRP Clean Energy Team - ECPv6.15.17//NONSGML v1.0//EN
CALSCALE:GREGORIAN
METHOD:PUBLISH
X-WR-CALNAME:SRP Clean Energy Team
X-ORIGINAL-URL:https://srpcleanenergy.org
X-WR-CALDESC:Events for SRP Clean Energy Team
REFRESH-INTERVAL;VALUE=DURATION:PT1H
X-Robots-Tag:noindex
X-PUBLISHED-TTL:PT1H
BEGIN:VTIMEZONE
TZID:America/Phoenix
BEGIN:STANDARD
TZOFFSETFROM:-0700
TZOFFSETTO:-0700
TZNAME:MST
DTSTART:20230101T000000
END:STANDARD
END:VTIMEZONE
BEGIN:VEVENT
DTSTART;TZID=America/Phoenix:20240222T170000
DTEND;TZID=America/Phoenix:20240222T190000
DTSTAMP:20260421T125004
CREATED:20240209T070319Z
LAST-MODIFIED:20240222T100313Z
UID:571-1708621200-1708628400@srpcleanenergy.org
SUMMARY:Kris Mayes and Mitzi Epstein Fundraiser for SRPCleanEnergy candidates
DESCRIPTION:Hosts: Attorney General Kris Mayes and Sen. Mitzi Epstein\nPlease be prompt AG Kris Mayes will arrive at 5:15pm \n\nSpecial Guests:  Rep. Sarah Liguori\, Hon. Ken Clark\, Hon. Debbie McCune Davis\, Andrei Cherny
URL:https://srpcleanenergy.org/event/kris-mayes-fundraiser/
LOCATION:BARCOA Agaveria\, 829 N 1st Ave\, Phoenix\, AZ\, 85003\, United States
CATEGORIES:Fundraiser
ATTACH;FMTTYPE=image/jpeg:/wp-content/uploads/2024/02/KrisMayesFundraiser350.jpg
ORGANIZER;CN="Randy Miller":MAILTO:info@srpcleanenergy.org
END:VEVENT
END:VCALENDAR