BEGIN:VCALENDAR
VERSION:2.0
PRODID:-//SRP Clean Energy Team - ECPv6.15.17//NONSGML v1.0//EN
CALSCALE:GREGORIAN
METHOD:PUBLISH
X-WR-CALNAME:SRP Clean Energy Team
X-ORIGINAL-URL:https://srpcleanenergy.org
X-WR-CALDESC:Events for SRP Clean Energy Team
REFRESH-INTERVAL;VALUE=DURATION:PT1H
X-Robots-Tag:noindex
X-PUBLISHED-TTL:PT1H
BEGIN:VTIMEZONE
TZID:America/Phoenix
BEGIN:STANDARD
TZOFFSETFROM:-0700
TZOFFSETTO:-0700
TZNAME:MST
DTSTART:20230101T000000
END:STANDARD
END:VTIMEZONE
BEGIN:VEVENT
DTSTART;TZID=America/Phoenix:20240219T083000
DTEND;TZID=America/Phoenix:20240219T093000
DTSTAMP:20260421T125006
CREATED:20240212T052655Z
LAST-MODIFIED:20240216T065711Z
UID:648-1708331400-1708335000@srpcleanenergy.org
SUMMARY:Sunrise Arizona Bringing the Heat: Climate Emergency Protest
DESCRIPTION:In the past year\, an additional 500 Arizonans have died from extreme heat\, dozens of heat records have been shattered\, and thousands of Arizonans experiencing houselessness have been forced to endure deadly temperatures. Arizona is on the frontlines of this crisis. It’s time Biden starts acting like it. Biden does not have our votes if he can’t protect our vulnerable communities now. \nJoin Sunrise Movement Phoenix in protest at Maricopa County Democratic Headquarters demanding Biden declare a climate emergency once and for all. Biden must protect us from climate disasters\, create green union jobs\, and end the fossil fuel era. \nFor the air we breathe\, the water we drink\, and the places we call home\, the time to act is now. Join us on February 19th\, President’s Day\, to tell Biden that enough is enough.
URL:https://srpcleanenergy.org/event/sunrise-arizona-bringing-the-heat-climate-emergency-protest/
LOCATION:Maricopa County Democratic Party\, AZ
ATTACH;FMTTYPE=image/jpeg:/wp-content/uploads/2024/02/SUNRISE-BRINGING-THE-HEAT.jpg
END:VEVENT
BEGIN:VEVENT
DTSTART;TZID=America/Phoenix:20240219T150000
DTEND;TZID=America/Phoenix:20240219T170000
DTSTAMP:20260421T125006
CREATED:20240209T174918Z
LAST-MODIFIED:20240210T041049Z
UID:603-1708354800-1708362000@srpcleanenergy.org
SUMMARY:City of Mesa - Meet the Candidates
DESCRIPTION:My name is Dr. Laura Metcalfe\, and I’m a candidate for Maricopa County Superintendent of Schools. You are cordially invited to attend a “Meet the Candidates” event on Monday\, February 19\, 2024 from 3 – 5pm at Budda’s Brew Coffee House located at 710 E. Main Street\, Mesa. • The purpose of this event is to meet the candidates running for county- level seats\, City of Mesa\, and City of Tempe municipal candidates\, seated members of both councils\, and Chamber of Commerce members. We will get to know each other and bring conversations on issues\, concerns\, and how we can work together in the future. I look forward to seeing you at this event! Please let me know if you have any questions\, and please confirm your attendance by replying to this email. Thank you! Dr. Laura Metcalfe. Candidate.
URL:https://srpcleanenergy.org/event/city-of-mesa-mesa-meet-the-candidates/
LOCATION:Budda’s Brew Coffee House\, 710 E Main St\, Mesa\, AZ\, 85203\, United States
CATEGORIES:Voter Education
ATTACH;FMTTYPE=image/webp:/wp-content/uploads/2024/02/metcalfe-logo-HORZ-2023.webp
END:VEVENT
BEGIN:VEVENT
DTSTART;TZID=America/Phoenix:20240219T183000
DTEND;TZID=America/Phoenix:20240219T200000
DTSTAMP:20260421T125006
CREATED:20240210T053004Z
LAST-MODIFIED:20240210T053212Z
UID:637-1708367400-1708372800@srpcleanenergy.org
SUMMARY:Legislative District 14 Monthly Meeting
DESCRIPTION:(one block north of Williams Field Rd. on the northeast corner of Morgan & Gilbert Rd.)
URL:https://srpcleanenergy.org/event/legislative-district-14-monthly-meeting/
LOCATION:Chalice Christian Church\, 15303 S Gilbert Rd\, Gilbert\, AZ 85295\, Gilbert\, AZ\, 85295\, United States
CATEGORIES:Voter Education
ATTACH;FMTTYPE=image/png:/wp-content/uploads/2024/02/LD14Dems.png
END:VEVENT
END:VCALENDAR