BEGIN:VCALENDAR
VERSION:2.0
PRODID:-//SRP Clean Energy Team - ECPv6.15.17//NONSGML v1.0//EN
CALSCALE:GREGORIAN
METHOD:PUBLISH
X-ORIGINAL-URL:https://srpcleanenergy.org
X-WR-CALDESC:Events for SRP Clean Energy Team
REFRESH-INTERVAL;VALUE=DURATION:PT1H
X-Robots-Tag:noindex
X-PUBLISHED-TTL:PT1H
BEGIN:VTIMEZONE
TZID:America/Phoenix
BEGIN:STANDARD
TZOFFSETFROM:-0700
TZOFFSETTO:-0700
TZNAME:MST
DTSTART:20230101T000000
END:STANDARD
END:VTIMEZONE
BEGIN:VEVENT
DTSTART;TZID=America/Phoenix:20240217T000000
DTEND;TZID=America/Phoenix:20240218T235959
DTSTAMP:20260421T125122
CREATED:20240216T081158Z
LAST-MODIFIED:20240216T081201Z
UID:707-1708128000-1708300799@srpcleanenergy.org
SUMMARY:Legislative District 9 Coordinated Canvass
DESCRIPTION:Please register so we know how many doors we can knock! \nhttps://www.mobilize.us/ld9democrats/event/605504/ \nJoin LD 9 and it’s Democratic Legislators in knocking on doors to ensure their victory in November. \nWe are spending the next few weeks collecting signatures to make sure that they’re on the ballot in November. \nDo not worry if you have never knocked a door we will provide a training. If you cannot knock doors we always need drivers to make our knockers even more efficient. \nJoin LD 9 and it’s State Legislators Rep. Lorena Austin\, Rep Seth Blattman and Sen. Eva Burch and future Mesa Mayor Ryan Winkle in securing our democracy for the future by gathering signatures to ensure our elected officials are on the ballot in 2024. Join us through out the day as we work together to protect our neighborhoods and civil rights!
URL:https://srpcleanenergy.org/event/legislative-district-9-coordinated-canvass-2/
LOCATION:Legislative District 9 Office\, 761 E University Dr.\, Mesa\, AZ\, 85203\, United States
CATEGORIES:Canvass
ATTACH;FMTTYPE=image/jpeg:/wp-content/uploads/2024/02/LD9-Dems.jpg
END:VEVENT
END:VCALENDAR