BEGIN:VCALENDAR
VERSION:2.0
PRODID:-//SRP Clean Energy Team - ECPv6.15.17//NONSGML v1.0//EN
CALSCALE:GREGORIAN
METHOD:PUBLISH
X-ORIGINAL-URL:https://srpcleanenergy.org
X-WR-CALDESC:Events for SRP Clean Energy Team
REFRESH-INTERVAL;VALUE=DURATION:PT1H
X-Robots-Tag:noindex
X-PUBLISHED-TTL:PT1H
BEGIN:VTIMEZONE
TZID:America/Phoenix
BEGIN:STANDARD
TZOFFSETFROM:-0700
TZOFFSETTO:-0700
TZNAME:MST
DTSTART:20230101T000000
END:STANDARD
END:VTIMEZONE
BEGIN:VEVENT
DTSTART;TZID=America/Phoenix:20240214T000000
DTEND;TZID=America/Phoenix:20240214T235959
DTSTAMP:20260421T125124
CREATED:20240216T074815Z
LAST-MODIFIED:20240216T075101Z
UID:701-1707868800-1707955199@srpcleanenergy.org
SUMMARY:Univision - Clientes de SRP elegirán a miembros de la mesa directiva
DESCRIPTION:Este año la compañía SRP\, cuya misión ha sido proporcionar agua y energía a cerca de 2 millones de arizonenses\, llevará a cabo las elecciones especiales para elegir a la junta directiva responsable de establecer las regulaciones que afectan directamente los recursos hídricos y energéticos. \nhttps://www.univision.com/local/arizona-ktvw/clientes-de-srp-elegiran-a-miembros-de-la-mesa-directiva-video
URL:https://srpcleanenergy.org/event/univision-clientes-de-srp-elegiran-a-miembros-de-la-mesa-directiva/
CATEGORIES:Spanish (Espanol)
END:VEVENT
END:VCALENDAR