BEGIN:VCALENDAR
VERSION:2.0
PRODID:-//SRP Clean Energy Team - ECPv6.15.17//NONSGML v1.0//EN
CALSCALE:GREGORIAN
METHOD:PUBLISH
X-ORIGINAL-URL:https://srpcleanenergy.org
X-WR-CALDESC:Events for SRP Clean Energy Team
REFRESH-INTERVAL;VALUE=DURATION:PT1H
X-Robots-Tag:noindex
X-PUBLISHED-TTL:PT1H
BEGIN:VTIMEZONE
TZID:America/Phoenix
BEGIN:STANDARD
TZOFFSETFROM:-0700
TZOFFSETTO:-0700
TZNAME:MST
DTSTART:20230101T000000
END:STANDARD
END:VTIMEZONE
BEGIN:VEVENT
DTSTART;TZID=America/Phoenix:20240208T180000
DTEND;TZID=America/Phoenix:20240208T200000
DTSTAMP:20260421T125019
CREATED:20240224T062227Z
LAST-MODIFIED:20240224T062430Z
UID:971-1707415200-1707422400@srpcleanenergy.org
SUMMARY:Your Guide to the 2024 SRP Elections
DESCRIPTION:
URL:https://srpcleanenergy.org/event/your-guide-to-the-2024-srp-elections/
LOCATION:Online
CATEGORIES:Voter Education
END:VEVENT
END:VCALENDAR